BEGIN:VCALENDAR
VERSION:2.0
PRODID:SchoolNow
CALSCALE:GREGORIAN
BEGIN:VEVENT
UID:b427ea66-0c2e-11f1-bc96-0affd176e2dd
DTSTAMP:20260422T031556Z
SUMMARY:AHS-Holiday Break (No School)
URL;VALUE=URI:https://www.sau81.org/ahs/calendar/8857836/ahs-holiday-break-
 no-school
DTSTART;VALUE=DATE:20261224
DTEND;VALUE=DATE:20270102
END:VEVENT
END:VCALENDAR
