BEGIN:VCALENDAR
VERSION:2.0
PRODID:SchoolNow
CALSCALE:GREGORIAN
BEGIN:VEVENT
UID:b427e8a4-0c2e-11f1-8cf1-0affd176e2dd
DTSTAMP:20260421T211051Z
SUMMARY:AHS-Teacher Workshop
URL;VALUE=URI:https://www.sau81.org/ahs/calendar/8857835/ahs-teacher-worksh
 op
DTSTART;VALUE=DATE:20260819
DTEND;VALUE=DATE:20260822
END:VEVENT
END:VCALENDAR
