BEGIN:VCALENDAR
VERSION:2.0
PRODID:SchoolNow
CALSCALE:GREGORIAN
BEGIN:VEVENT
UID:b427e6d8-0c2e-11f1-b581-0affd176e2dd
DTSTAMP:20260422T152550Z
SUMMARY:AHS-Teacher Workshop (AM only-includes 3 snow days if needed)
URL;VALUE=URI:https://www.sau81.org/ahs/calendar/8857834/ahs-teacher-worksh
 op-am-only-includes-3-snow-days-if-needed
DTSTART;VALUE=DATE:20270618
DTEND;VALUE=DATE:20270619
END:VEVENT
END:VCALENDAR
