BEGIN:VCALENDAR
VERSION:2.0
PRODID:SchoolNow
CALSCALE:GREGORIAN
BEGIN:VEVENT
UID:b427e58e-0c2e-11f1-ac59-0affd176e2dd
DTSTAMP:20260422T031556Z
SUMMARY:AHS-No School (Teacher Workshop)
URL;VALUE=URI:https://www.sau81.org/ahs/calendar/8857833/ahs-no-school-teac
 her-workshop
DTSTART;VALUE=DATE:20261103
DTEND;VALUE=DATE:20261104
END:VEVENT
END:VCALENDAR
