BEGIN:VCALENDAR
VERSION:2.0
PRODID:SchoolNow
CALSCALE:GREGORIAN
BEGIN:VEVENT
UID:b427e494-0c2e-11f1-a99a-0affd176e2dd
DTSTAMP:20260421T211052Z
SUMMARY:AHS-Columbus Day (No School)
URL;VALUE=URI:https://www.sau81.org/ahs/calendar/8857832/ahs-columbus-day-n
 o-school
DTSTART;VALUE=DATE:20261012
DTEND;VALUE=DATE:20261013
END:VEVENT
END:VCALENDAR
