BEGIN:VCALENDAR
VERSION:2.0
PRODID:SchoolNow
CALSCALE:GREGORIAN
BEGIN:VEVENT
UID:b427e37c-0c2e-11f1-a31b-0affd176e2dd
DTSTAMP:20260422T092051Z
SUMMARY:AHS-Memorial Day (No School)
URL;VALUE=URI:https://www.sau81.org/ahs/calendar/8857831/ahs-memorial-day-n
 o-school
DTSTART;VALUE=DATE:20270531
DTEND;VALUE=DATE:20270601
END:VEVENT
END:VCALENDAR
