BEGIN:VCALENDAR
VERSION:2.0
PRODID:SchoolNow
CALSCALE:GREGORIAN
BEGIN:VEVENT
UID:b427e278-0c2e-11f1-b7fa-0affd176e2dd
DTSTAMP:20260421T211051Z
SUMMARY:AHS-Labor Day (No School)
URL;VALUE=URI:https://www.sau81.org/ahs/calendar/8857830/ahs-labor-day-no-s
 chool
DTSTART;VALUE=DATE:20260907
DTEND;VALUE=DATE:20260908
END:VEVENT
END:VCALENDAR
