BEGIN:VCALENDAR
VERSION:2.0
PRODID:SchoolNow
CALSCALE:GREGORIAN
BEGIN:VEVENT
UID:b427e124-0c2e-11f1-9add-0affd176e2dd
DTSTAMP:20260422T031556Z
SUMMARY:Thanksgiving Break (No School)
URL;VALUE=URI:https://www.sau81.org/ahs/calendar/8857829/thanksgiving-break
 -no-school
DTSTART;VALUE=DATE:20261125
DTEND;VALUE=DATE:20261126
END:VEVENT
END:VCALENDAR
