BEGIN:VCALENDAR
VERSION:2.0
PRODID:SchoolNow
CALSCALE:GREGORIAN
BEGIN:VEVENT
UID:b427decc-0c2e-11f1-8e4b-0affd176e2dd
DTSTAMP:20260422T092051Z
SUMMARY:AHS-Teacher Workshop (No School)
URL;VALUE=URI:https://www.sau81.org/ahs/calendar/8857828/ahs-teacher-worksh
 op-no-school
DTSTART;VALUE=DATE:20270309
DTEND;VALUE=DATE:20270310
END:VEVENT
END:VCALENDAR
