BEGIN:VCALENDAR
VERSION:2.0
PRODID:SchoolNow
CALSCALE:GREGORIAN
BEGIN:VEVENT
UID:b427bf50-0c2e-11f1-91b0-0affd176e2dd
DTSTAMP:20260421T211051Z
SUMMARY:AHS-First day for all students
URL;VALUE=URI:https://www.sau81.org/ahs/calendar/8857827/ahs-first-day-for-
 all-students
DTSTART;VALUE=DATE:20260824
DTEND;VALUE=DATE:20260825
END:VEVENT
END:VCALENDAR
