BEGIN:VCALENDAR
VERSION:2.0
PRODID:SchoolNow
CALSCALE:GREGORIAN
BEGIN:VEVENT
UID:0174a1a6-0635-11f1-b7d0-0e17d3a4a4f5
DTSTAMP:20260421T090107Z
SUMMARY:AHS-Parent/Teacher Conferences
URL;VALUE=URI:https://www.sau81.org/ahs/calendar/8851995/ahs-parent-teacher
 -conferences
DTSTART:20260309T183000Z
DTEND:20260309T223000Z
END:VEVENT
END:VCALENDAR
