BEGIN:VCALENDAR
VERSION:2.0
PRODID:SchoolNow
CALSCALE:GREGORIAN
BEGIN:VEVENT
UID:44877e60-0107-11f1-ac6f-0affc379c4d7
DTSTAMP:20260421T090107Z
SUMMARY:AHS-Video Night
URL;VALUE=URI:https://www.sau81.org/ahs/calendar/8848405/ahs-video-night
DTSTART:20260410T233000Z
DTEND:20260411T003000Z
END:VEVENT
END:VCALENDAR
