BEGIN:VCALENDAR
VERSION:2.0
PRODID:SchoolNow
CALSCALE:GREGORIAN
BEGIN:VEVENT
UID:44877a00-0107-11f1-9c82-0affc379c4d7
DTSTAMP:20260421T090107Z
SUMMARY:AHS-Nathan Morin Memorial Blood Drive
LOCATION:ROTC Room
URL;VALUE=URI:https://www.sau81.org/ahs/calendar/8848404/ahs-nathan-morin-m
 emorial-blood-drive
DTSTART:20260217T190000Z
DTEND:20260217T233000Z
ATTACH;FILENAME=American Red Cross (4).png;FMTTYPE=image/png:https://drive.
 google.com/open?id=1XXZ3EyxmMJL2fDPJNZZMLP1hdCBWeJKM
ATTACH;FILENAME=Notes - AHS-Nathan Morin Memorial Blood Drive;FMTTYPE=appli
 cation/octet-stream:https://docs.google.com/document/d/1n1IafNoKrJkeVUBtA4
 u3fUjhx3bLAZi3rlkYnHsvS7E/edit
END:VEVENT
END:VCALENDAR
