BEGIN:VCALENDAR
VERSION:2.0
PRODID:SchoolNow
CALSCALE:GREGORIAN
BEGIN:VEVENT
UID:4487765e-0107-11f1-af62-0affc379c4d7
DTSTAMP:20260421T090107Z
SUMMARY:AHS - World Festival
LOCATION:Alvirne Gym
URL;VALUE=URI:https://www.sau81.org/ahs/calendar/8848403/ahs-world-festival
DTSTART:20260417T210000Z
DTEND:20260418T000000Z
END:VEVENT
END:VCALENDAR
