BEGIN:VCALENDAR
VERSION:2.0
PRODID:SchoolNow
CALSCALE:GREGORIAN
BEGIN:VEVENT
UID:4487555c-0107-11f1-aa6a-0affc379c4d7
DTSTAMP:20260421T090107Z
SUMMARY:AHS-Alvirne Spirit Week
URL;VALUE=URI:https://www.sau81.org/ahs/calendar/8848402/ahs-alvirne-spirit
 -week
DTSTART;VALUE=DATE:20260406
DTEND;VALUE=DATE:20260411
END:VEVENT
END:VCALENDAR
