BEGIN:VCALENDAR
VERSION:2.0
PRODID:SchoolNow
CALSCALE:GREGORIAN
BEGIN:VEVENT
UID:6c9a86a0-c579-11f0-9e7d-0ef0a6f6ff45
DTSTAMP:20260421T090107Z
SUMMARY:AHS-Quinceanera Dance
URL;VALUE=URI:https://www.sau81.org/ahs/calendar/8803904/ahs-quinceanera-da
 nce
DTSTART:20260313T220000Z
DTEND:20260314T013000Z
ATTACH;FILENAME=Social Media Quinceanera.png;FMTTYPE=image/png:https://driv
 e.google.com/open?id=1eipGzPN6n7Gh5ZqNXmHjhqR4FX8Nx4Ng
END:VEVENT
END:VCALENDAR
