BEGIN:VCALENDAR
VERSION:2.0
PRODID:SchoolNow
CALSCALE:GREGORIAN
BEGIN:VEVENT
UID:81075c9c-c3e1-11f0-8054-0a58a9feac02
DTSTAMP:20260421T025548Z
SUMMARY:AHS-8th Grade Information Night
URL;VALUE=URI:https://www.sau81.org/ahs/calendar/8799995/ahs-8th-grade-info
 rmation-night
DTSTART:20260114T223000Z
DTEND:20260114T233000Z
END:VEVENT
END:VCALENDAR
