BEGIN:VCALENDAR
VERSION:2.0
PRODID:SchoolNow
CALSCALE:GREGORIAN
BEGIN:VEVENT
UID:810757f6-c3e1-11f0-bf13-0a58a9feac02
DTSTAMP:20260421T150555Z
SUMMARY:AHS-Scholarship Night (by invitation)
LOCATION:Hudson Recreation Department\, 12 Lions Ave\, Hudson\, NH 03051\, 
 USA
URL;VALUE=URI:https://www.sau81.org/ahs/calendar/8799994/ahs-scholarship-ni
 ght-by-invitation
DTSTART:20260608T213000Z
DTEND:20260608T233000Z
END:VEVENT
END:VCALENDAR
