BEGIN:VCALENDAR
VERSION:2.0
PRODID:SchoolNow
CALSCALE:GREGORIAN
BEGIN:VEVENT
UID:74466364-af90-11f0-a816-0affd97868ad
DTSTAMP:20260421T090107Z
SUMMARY:AHS-ACT Exam
URL;VALUE=URI:https://www.sau81.org/ahs/calendar/8743384/ahs-act-exam
DTSTART:20260411T120000Z
DTEND:20260411T130000Z
END:VEVENT
END:VCALENDAR
