BEGIN:VCALENDAR
VERSION:2.0
PRODID:SchoolNow
CALSCALE:GREGORIAN
BEGIN:VEVENT
UID:74466170-af90-11f0-b87b-0affd97868ad
DTSTAMP:20260421T090107Z
SUMMARY:AHS-CTE & Elective Open House (Time TBD)
URL;VALUE=URI:https://www.sau81.org/ahs/calendar/8743382/ahs-cte-elective-o
 pen-house-time-tbd
DTSTART:20260128T223000Z
DTEND:20260129T003000Z
END:VEVENT
END:VCALENDAR
