BEGIN:VCALENDAR
VERSION:2.0
PRODID:SchoolNow
CALSCALE:GREGORIAN
BEGIN:VEVENT
UID:74466062-af90-11f0-9d14-0affd97868ad
DTSTAMP:20260421T090107Z
SUMMARY:AHS- Quarter 3 Starts
URL;VALUE=URI:https://www.sau81.org/ahs/calendar/8743381/ahs-quarter-3-star
 ts
DTSTART;VALUE=DATE:20260126
DTEND;VALUE=DATE:20260127
END:VEVENT
END:VCALENDAR
