BEGIN:VCALENDAR
VERSION:2.0
PRODID:SchoolNow
CALSCALE:GREGORIAN
BEGIN:VEVENT
UID:74465f2c-af90-11f0-9e7d-0affd97868ad
DTSTAMP:20260421T090107Z
SUMMARY:AHS-Capstone Evening Presentations
URL;VALUE=URI:https://www.sau81.org/ahs/calendar/8743380/ahs-capstone-eveni
 ng-presentations
DTSTART:20260109T230000Z
DTEND:20260110T013000Z
END:VEVENT
END:VCALENDAR
