BEGIN:VCALENDAR
VERSION:2.0
PRODID:SchoolNow
CALSCALE:GREGORIAN
BEGIN:VEVENT
UID:74465dd8-af90-11f0-aac3-0affd97868ad
DTSTAMP:20260421T090107Z
SUMMARY:AHS-Capstone In-school Presentations
URL;VALUE=URI:https://www.sau81.org/ahs/calendar/8743379/ahs-capstone-in-sc
 hool-presentations
DTSTART;VALUE=DATE:20260107
DTEND;VALUE=DATE:20260109
END:VEVENT
END:VCALENDAR
