BEGIN:VCALENDAR
VERSION:2.0
PRODID:SchoolNow
CALSCALE:GREGORIAN
BEGIN:VEVENT
UID:b0471774-79e3-11f0-ad2b-0289ba4bded1
DTSTAMP:20260421T090107Z
SUMMARY:AHS - 3rd Progress Report (anticipated)
URL;VALUE=URI:https://www.sau81.org/ahs/calendar/8510634/ahs-3rd-progress-r
 eport-anticipated
DTSTART;VALUE=DATE:20260303
DTEND;VALUE=DATE:20260304
END:VEVENT
END:VCALENDAR
