BEGIN:VCALENDAR
VERSION:2.0
PRODID:SchoolNow
CALSCALE:GREGORIAN
BEGIN:VEVENT
UID:9a61a54a-67f6-11f0-93dd-0a58a9feac02
DTSTAMP:20260421T150554Z
SUMMARY:AHS-Spring Choral Concert
URL;VALUE=URI:https://www.sau81.org/ahs/calendar/8440698/ahs-spring-choral-
 concert
DTSTART:20260519T223000Z
DTEND:20260519T233000Z
END:VEVENT
END:VCALENDAR
