BEGIN:VCALENDAR
VERSION:2.0
PRODID:SchoolNow
CALSCALE:GREGORIAN
BEGIN:VEVENT
UID:9a61a464-67f6-11f0-8354-0a58a9feac02
DTSTAMP:20260421T150554Z
SUMMARY:AHS-Spring Band Concert
URL;VALUE=URI:https://www.sau81.org/ahs/calendar/8440697/ahs-spring-band-co
 ncert
DTSTART:20260520T223000Z
DTEND:20260520T233000Z
END:VEVENT
END:VCALENDAR
