BEGIN:VCALENDAR
VERSION:2.0
PRODID:SchoolNow
CALSCALE:GREGORIAN
BEGIN:VEVENT
UID:9a61a1b2-67f6-11f0-99b4-0a58a9feac02
DTSTAMP:20260421T150554Z
SUMMARY:AHS-Class Act Presents: Into the Woods
URL;VALUE=URI:https://www.sau81.org/ahs/calendar/8440695/ahs-class-act-pres
 ents-into-the-woods
DTSTART:20260516T170000Z
DTEND:20260516T190000Z
ATTACH;FILENAME=Into the Woods Promo.jpeg;FMTTYPE=image/jpeg:https://drive.
 google.com/open?id=1mXfdVo-vT8NFAWuq3DqKO0g4TdT3Xbh6
END:VEVENT
END:VCALENDAR
