BEGIN:VCALENDAR
VERSION:2.0
PRODID:SchoolNow
CALSCALE:GREGORIAN
BEGIN:VEVENT
UID:9a61a0cc-67f6-11f0-aea3-0a58a9feac02
DTSTAMP:20260421T150554Z
SUMMARY:AHS-Class Act Presents: Into the Woods
URL;VALUE=URI:https://www.sau81.org/ahs/calendar/8440694/ahs-class-act-pres
 ents-into-the-woods
DTSTART:20260515T223000Z
DTEND:20260516T003000Z
ATTACH;FILENAME=Into the Woods Promo.jpeg;FMTTYPE=image/jpeg:https://drive.
 google.com/open?id=1mXfdVo-vT8NFAWuq3DqKO0g4TdT3Xbh6
END:VEVENT
END:VCALENDAR
