BEGIN:VCALENDAR
VERSION:2.0
PRODID:SchoolNow
CALSCALE:GREGORIAN
BEGIN:VEVENT
UID:9a619fdc-67f6-11f0-aea3-0a58a9feac02
DTSTAMP:20260421T150555Z
SUMMARY:AHS-AP Exam Chemistry
URL;VALUE=URI:https://www.sau81.org/ahs/calendar/8440693/ahs-ap-exam-chemis
 try
DTSTART;VALUE=DATE:20260505
DTEND;VALUE=DATE:20260506
END:VEVENT
END:VCALENDAR
