BEGIN:VCALENDAR
VERSION:2.0
PRODID:SchoolNow
CALSCALE:GREGORIAN
BEGIN:VEVENT
UID:9a619ef6-67f6-11f0-a67e-0a58a9feac02
DTSTAMP:20260421T150555Z
SUMMARY:AHS-AP Bio Exam
URL;VALUE=URI:https://www.sau81.org/ahs/calendar/8440692/ahs-ap-bio-exam
DTSTART;VALUE=DATE:20260504
DTEND;VALUE=DATE:20260505
END:VEVENT
END:VCALENDAR
