BEGIN:VCALENDAR
VERSION:2.0
PRODID:SchoolNow
CALSCALE:GREGORIAN
BEGIN:VEVENT
UID:9a619e10-67f6-11f0-b288-0a58a9feac02
DTSTAMP:20260421T090107Z
SUMMARY:AHS-Quarter 3 Ends
URL;VALUE=URI:https://www.sau81.org/ahs/calendar/8440691/ahs-quarter-3-ends
DTSTART;VALUE=DATE:20260403
DTEND;VALUE=DATE:20260404
END:VEVENT
END:VCALENDAR
