BEGIN:VCALENDAR
VERSION:2.0
PRODID:SchoolNow
CALSCALE:GREGORIAN
BEGIN:VEVENT
UID:9a619c44-67f6-11f0-9010-0a58a9feac02
DTSTAMP:20260421T090107Z
SUMMARY:AHS-Midterm Exams
URL;VALUE=URI:https://www.sau81.org/ahs/calendar/8440689/ahs-midterm-exams
DTSTART:20260120T123000Z
DTEND:20260123T163000Z
END:VEVENT
END:VCALENDAR
