BEGIN:VCALENDAR
VERSION:2.0
PRODID:SchoolNow
CALSCALE:GREGORIAN
BEGIN:VEVENT
UID:9a619b54-67f6-11f0-9f28-0a58a9feac02
DTSTAMP:20260421T090107Z
SUMMARY:AHS-Quarter 2/Sem. 1 Ends
URL;VALUE=URI:https://www.sau81.org/ahs/calendar/8440688/ahs-quarter-2-sem-
 1-ends
DTSTART;VALUE=DATE:20260123
DTEND;VALUE=DATE:20260124
END:VEVENT
END:VCALENDAR
