BEGIN:VCALENDAR
VERSION:2.0
PRODID:SchoolNow
CALSCALE:GREGORIAN
BEGIN:VEVENT
UID:cbe36176-63fa-11f0-9bf8-0afff13a3375
DTSTAMP:20260421T150554Z
SUMMARY:AHS-Marching Band @ Memorial Day Parade
URL;VALUE=URI:https://www.sau81.org/ahs/calendar/8427655/ahs-marching-band-
 memorial-day-parade
DTSTART;VALUE=DATE:20260525
DTEND;VALUE=DATE:20260526
END:VEVENT
END:VCALENDAR
