BEGIN:VCALENDAR
VERSION:2.0
PRODID:SchoolNow
CALSCALE:GREGORIAN
BEGIN:VEVENT
UID:fa79ae6e-60fd-11f0-95f3-0a58a9feac02
DTSTAMP:20260421T090107Z
SUMMARY:AHS-Career &  Job Fair
URL;VALUE=URI:https://www.sau81.org/ahs/calendar/8414953/ahs-career-job-fai
 r
DTSTART:20260416T120000Z
DTEND:20260416T150000Z
END:VEVENT
END:VCALENDAR
