BEGIN:VCALENDAR
VERSION:2.0
PRODID:SchoolNow
CALSCALE:GREGORIAN
BEGIN:VEVENT
UID:31b83ff2-5c36-11f0-98f9-02e52db04203
DTSTAMP:20260423T033550Z
SUMMARY:AHS-Cabaret Evening Performance
URL;VALUE=URI:https://www.sau81.org/ahs/calendar/8396734/ahs-cabaret-evenin
 g-performance
DTSTART:20260321T220000Z
DTEND:20260321T230000Z
END:VEVENT
END:VCALENDAR
