BEGIN:VCALENDAR
VERSION:2.0
PRODID:SchoolNow
CALSCALE:GREGORIAN
BEGIN:VEVENT
UID:31b83eee-5c36-11f0-b0b5-02e52db04203
DTSTAMP:20260421T090107Z
SUMMARY:AHS-Cabaret Show Matinee
URL;VALUE=URI:https://www.sau81.org/ahs/calendar/8396733/ahs-cabaret-show-m
 atinee
DTSTART:20260321T170000Z
DTEND:20260321T180000Z
END:VEVENT
END:VCALENDAR
