BEGIN:VCALENDAR
VERSION:2.0
PRODID:SchoolNow
CALSCALE:GREGORIAN
BEGIN:VEVENT
UID:34bf15be-5c03-11f0-a935-0affe0048927
DTSTAMP:20260421T150554Z
SUMMARY:AHS-iReady Spring Grade 9 & 10 Reading
URL;VALUE=URI:https://www.sau81.org/ahs/calendar/8395705/ahs-iready-spring-
 grade-9-10-reading
DTSTART;VALUE=DATE:20260528
DTEND;VALUE=DATE:20260529
END:VEVENT
END:VCALENDAR
