BEGIN:VCALENDAR
VERSION:2.0
PRODID:SchoolNow
CALSCALE:GREGORIAN
BEGIN:VEVENT
UID:34bf14e2-5c03-11f0-a1aa-0affe0048927
DTSTAMP:20260421T150554Z
SUMMARY:AHS-iReady Spring Grade 9 & 10 Math
URL;VALUE=URI:https://www.sau81.org/ahs/calendar/8395704/ahs-iready-spring-
 grade-9-10-math
DTSTART;VALUE=DATE:20260527
DTEND;VALUE=DATE:20260528
END:VEVENT
END:VCALENDAR
