BEGIN:VCALENDAR
VERSION:2.0
PRODID:SchoolNow
CALSCALE:GREGORIAN
BEGIN:VEVENT
UID:34bf13de-5c03-11f0-a835-0affe0048927
DTSTAMP:20260421T150554Z
SUMMARY:AHS-Academic Awards Night
URL;VALUE=URI:https://www.sau81.org/ahs/calendar/8395703/ahs-academic-award
 s-night
DTSTART:20260521T223000Z
DTEND:20260521T233000Z
END:VEVENT
END:VCALENDAR
