BEGIN:VCALENDAR
VERSION:2.0
PRODID:SchoolNow
CALSCALE:GREGORIAN
BEGIN:VEVENT
UID:34bf110e-5c03-11f0-92ca-0affe0048927
DTSTAMP:20260421T150555Z
SUMMARY:AHS-AP Exam Psychology
URL;VALUE=URI:https://www.sau81.org/ahs/calendar/8395700/ahs-ap-exam-psycho
 logy
DTSTART;VALUE=DATE:20260512
DTEND;VALUE=DATE:20260513
END:VEVENT
END:VCALENDAR
