BEGIN:VCALENDAR
VERSION:2.0
PRODID:SchoolNow
CALSCALE:GREGORIAN
BEGIN:VEVENT
UID:34bf1028-5c03-11f0-8fa8-0affe0048927
DTSTAMP:20260421T150555Z
SUMMARY:AHS-AP Exam Pre-Calculus
URL;VALUE=URI:https://www.sau81.org/ahs/calendar/8395699/ahs-ap-exam-pre-ca
 lculus
DTSTART;VALUE=DATE:20260512
DTEND;VALUE=DATE:20260513
END:VEVENT
END:VCALENDAR
