BEGIN:VCALENDAR
VERSION:2.0
PRODID:SchoolNow
CALSCALE:GREGORIAN
BEGIN:VEVENT
UID:34bf0f38-5c03-11f0-ab7b-0affe0048927
DTSTAMP:20260421T150555Z
SUMMARY:AHS-AP Exam Calculus
URL;VALUE=URI:https://www.sau81.org/ahs/calendar/8395698/ahs-ap-exam-calcul
 us
DTSTART;VALUE=DATE:20260511
DTEND;VALUE=DATE:20260512
END:VEVENT
END:VCALENDAR
