BEGIN:VCALENDAR
VERSION:2.0
PRODID:SchoolNow
CALSCALE:GREGORIAN
BEGIN:VEVENT
UID:34bf0d76-5c03-11f0-8fab-0affe0048927
DTSTAMP:20260421T150555Z
SUMMARY:AHS-AP Exam Stats
URL;VALUE=URI:https://www.sau81.org/ahs/calendar/8395696/ahs-ap-exam-stats
DTSTART;VALUE=DATE:20260507
DTEND;VALUE=DATE:20260508
END:VEVENT
END:VCALENDAR
