BEGIN:VCALENDAR
VERSION:2.0
PRODID:SchoolNow
CALSCALE:GREGORIAN
BEGIN:VEVENT
UID:34bf0baa-5c03-11f0-8a27-0affe0048927
DTSTAMP:20260421T150554Z
SUMMARY:AHS-AP Exam English Literature
URL;VALUE=URI:https://www.sau81.org/ahs/calendar/8395694/ahs-ap-exam-englis
 h-literature
DTSTART;VALUE=DATE:20260506
DTEND;VALUE=DATE:20260507
END:VEVENT
END:VCALENDAR
