BEGIN:VCALENDAR
VERSION:2.0
PRODID:SchoolNow
CALSCALE:GREGORIAN
BEGIN:VEVENT
UID:34bf0aba-5c03-11f0-8298-0affe0048927
DTSTAMP:20260421T150555Z
SUMMARY:AHS-AP Exam U.S. Government
URL;VALUE=URI:https://www.sau81.org/ahs/calendar/8395693/ahs-ap-exam-u-s-go
 vernment
DTSTART;VALUE=DATE:20260505
DTEND;VALUE=DATE:20260506
END:VEVENT
END:VCALENDAR
