BEGIN:VCALENDAR
VERSION:2.0
PRODID:SchoolNow
CALSCALE:GREGORIAN
BEGIN:VEVENT
UID:34bf09d4-5c03-11f0-acc5-0affe0048927
DTSTAMP:20260421T090107Z
SUMMARY:AHS-NHSAS Science Exam Grade 11
URL;VALUE=URI:https://www.sau81.org/ahs/calendar/8395692/ahs-nhsas-science-
 exam-grade-11
DTSTART;VALUE=DATE:20260422
DTEND;VALUE=DATE:20260423
END:VEVENT
END:VCALENDAR
