BEGIN:VCALENDAR
VERSION:2.0
PRODID:SchoolNow
CALSCALE:GREGORIAN
BEGIN:VEVENT
UID:34bf08ee-5c03-11f0-bf9c-0affe0048927
DTSTAMP:20260421T090107Z
SUMMARY:AHS-NH Statewide Assessment -Grade 11
URL;VALUE=URI:https://www.sau81.org/ahs/calendar/8395691/ahs-nh-statewide-a
 ssessment-grade-11
DTSTART;VALUE=DATE:20260409
DTEND;VALUE=DATE:20260410
END:VEVENT
END:VCALENDAR
