BEGIN:VCALENDAR
VERSION:2.0
PRODID:SchoolNow
CALSCALE:GREGORIAN
BEGIN:VEVENT
UID:34bf07fe-5c03-11f0-bdb9-0affe0048927
DTSTAMP:20260421T025548Z
SUMMARY:AHS-Last day of 1st Sem. ACE Classes
URL;VALUE=URI:https://www.sau81.org/ahs/calendar/8395690/ahs-last-day-of-1s
 t-sem-ace-classes
DTSTART;VALUE=DATE:20260114
DTEND;VALUE=DATE:20260115
END:VEVENT
END:VCALENDAR
