BEGIN:VCALENDAR
VERSION:2.0
PRODID:SchoolNow
CALSCALE:GREGORIAN
BEGIN:VEVENT
UID:a06d03ea-fa9a-11ef-b1f9-0a58a9feac02
DTSTAMP:20260421T150554Z
SUMMARY:AHS-Last day for Teachers
URL;VALUE=URI:https://www.sau81.org/ahs/calendar/7616526/ahs-last-day-for-t
 eachers
DTSTART;VALUE=DATE:20260617
DTEND;VALUE=DATE:20260618
END:VEVENT
END:VCALENDAR
